BEGIN:VCALENDAR
VERSION:2.0
PRODID:-//Adunat.ro - ECPv6.15.20//NONSGML v1.0//EN
CALSCALE:GREGORIAN
METHOD:PUBLISH
X-ORIGINAL-URL:https://lucru.adunat.ro
X-WR-CALDESC:Evenimente pentru Adunat.ro
REFRESH-INTERVAL;VALUE=DURATION:PT1H
X-Robots-Tag:noindex
X-PUBLISHED-TTL:PT1H
BEGIN:VTIMEZONE
TZID:Europe/Bucharest
BEGIN:DAYLIGHT
TZOFFSETFROM:+0200
TZOFFSETTO:+0300
TZNAME:EEST
DTSTART:20250330T010000
END:DAYLIGHT
BEGIN:STANDARD
TZOFFSETFROM:+0300
TZOFFSETTO:+0200
TZNAME:EET
DTSTART:20251026T010000
END:STANDARD
BEGIN:DAYLIGHT
TZOFFSETFROM:+0200
TZOFFSETTO:+0300
TZNAME:EEST
DTSTART:20260329T010000
END:DAYLIGHT
BEGIN:STANDARD
TZOFFSETFROM:+0300
TZOFFSETTO:+0200
TZNAME:EET
DTSTART:20261025T010000
END:STANDARD
BEGIN:DAYLIGHT
TZOFFSETFROM:+0200
TZOFFSETTO:+0300
TZNAME:EEST
DTSTART:20270328T010000
END:DAYLIGHT
BEGIN:STANDARD
TZOFFSETFROM:+0300
TZOFFSETTO:+0200
TZNAME:EET
DTSTART:20271031T010000
END:STANDARD
END:VTIMEZONE
BEGIN:VEVENT
DTSTART;TZID=Europe/Bucharest:20260407T180000
DTEND;TZID=Europe/Bucharest:20260407T210000
DTSTAMP:20260421T203414
CREATED:20260404T212954Z
LAST-MODIFIED:20260405T111437Z
UID:10000014-1775584800-1775595600@lucru.adunat.ro
SUMMARY:Cum să treci prin orice\, cu bine - Atelier de valorificare a resurselor interioare
DESCRIPTION:De ce să participi la un eveniment Adunat?\n\n\n\n\nCum ar fi să ai un context în care să înveți lucruri noi și\, în același timp\, să socializezi într-un mod în care să îți permiți să fii exact cine ești? \nTema serii:\nExistă binele și răul? Ce este moralitatea? \nCum putem evalua dacă o acțiune umană este morală sau nu? Cu ce instrumente ale gândirii putem să evaluăm dacă o acțiune este bună sau rea? Care sunt posibilele repere pentru a răspunde? Care este „busola” conceptuală cu ajutorul căreia să ne ghidăm în câmpul moral? \nExistă multe moduri de a răspunde la aceste întrebări și multe curente filosofice care au încercat să dea un răspuns. Printre acestea\, avem abordarea utilitaristă și cea deontologică\, despre care vom vorbi  în această ediție la Adunat – Seara de Filosofie. \nÎn acest cadru ne dorim să: \naducem idei și concepte din istoria filosofiei mai aproape de oameni\, într-un format accesibil și viu; \nsă explorăm împreună întrebări fundamentale despre cine suntem\, cum ne raportăm la ceilalți și ce înseamnă să trăim într-o lume tot mai conectată; \nsă creăm un context în care oamenii se pot simți în siguranță să gândească\, să pună întrebări și să socializeze autentic. Mai puțin despre a avea răspunsul corect\, mai mult despre a gândi împreună. \nO dată la două săptămâni ne întâlnim într-un pub și alegem o temă din filosofia clasică sau contemporană. Pornim de la ideile unor gânditori importanți și le explorăm într-un mod relaxat și accesibil\, alternând momentele de prezentare cu conversații ghidate. \nNu trebuie să fii expert în filosofie.\nNu trebuie să ai citate pregătite sau teorii complicate.\nPoți veni exact așa cum ești. \nDe ce să vii? \nPentru că ne întrebăm mereu\, în sinea noastră\, „oare ceea ce am făcut este bine?”\, „oare sunt un om bun?”\, așadar sunt probleme care ne privesc pe toți. \nAici va fi contextul potrivit să aflăm ce au spus oameni consacrați ai istoriei gândirii despre moralitate\, bine și rău\, dar și ce spun alți oameni\, contemporanii noștri\, despre aceste teme. \nȘi cum nu se poate să existe filosofie morală fără o dezbatere și schimb de idei\, ne vom aduce cu toții contribuția prin socializare autentică cu oameni faini plecând de la ceea ce este pur uman: întrebări despre bine și rău. \nIar la final\, după ce ne vom familiariza cu ce este utilitarismul și ce este deontologia kantiană\, vom putea pleca acasă cu niște instrumente conceptuale utile. \nCum decurge seara? \n Ne așezăm în grupuri de câte patru persoane și primim o întrebare deschisă care pornește conversația.\n Fiecare are trei minute să răspundă\, fără să fie întrerupt. Dacă vrei să vorbești\, ai spațiu. Dacă vrei doar să asculți\, e în regulă.\n Alternăm aceste runde cu scurte momente de prezentare pe tema serii.\n Schimbăm grupurile de mai multe ori\, ca să ai ocazia să întâlnești perspective diferite.\n Încheiem cu o sesiune de Q&A. \nTotul este o invitație. Nu ești obligat să vorbești dacă nu vrei. Poți participa în ritmul tău. \nNu este curs.\nNu este dezbatere agresivă.\nNu este un eveniment rigid sau ultra-serios. \nEste un context în care putem gândi împreună și avea conversații reale. \nComunicarea autentică – regulile jocului \nPentru ca discuțiile să rămână relaxate și fiecare să se simtă în siguranță: \n Vorbim despre propria perspectivă\, nu despre ce „ar trebui” să creadă ceilalți.\n Ascultăm fără să întrerupem sau să judecăm.\n Nu dăm sfaturi nesolicitate. Suntem aici să explorăm idei\, nu să corectăm oameni.\n Ce se discută la Adunat rămâne la Adunat. \nCine vine la Adunat? \nNu există o limită de vârstă și nici un „tip” anume de oameni.\nVei găsi introvertiți și extrovertiți\, studenți\, antreprenori\, artiști\, oameni din IT sau din educație. \nCe au în comun este curiozitatea și dorința de a avea conversații reale. \n Bilet: 30 – 70 lei (preț flexibil – minim 30 lei\, dar poți contribui mai mult dacă vrei să susții proiectul și să ajuți ca evenimentul să rămână accesibil pentru toată lumea) \n Marți\, 7 Aprilie\n Sediul Adunat\, strada Bisericii Ortodoxe 21\, Cluj-Napoca\n Începem la ora 18:00 \n Locuri limitate. Ia-ți bilet de pe adunat.ro și hai să gândim un pic împreună \nPS: Dacă vrei să te asiguri că afli când vor fi următoarele întâlniri\, poți intra în grupul nostru de WhatsApp de anunțuri. (fără spam și mesaje aiurea\, doar anunțăm când ne adunăm) Dacă intri\, nu uita să pornești notificările ca să nu pierzi mesajele.\nIntră în grupul WhatsApp
URL:https://lucru.adunat.ro/eveniment/cum-sa-treci-prin-orice-cu-bine-atelier-de-valorificare-a-resurselor-interioare/
LOCATION:Sediul Adunat\, Strada Bisericii Ortodoxe 21\, Cluj-Napoca\, Cluj\, Romania
CATEGORIES:Seri de Filosofie,Seri de Socializare
ATTACH;FMTTYPE=image/jpeg:https://lucru.adunat.ro/wp-content/uploads/2026/04/Authentic-Communication-and-Human-Connection-21.jpg
ORGANIZER;CN="Vlad Borla":MAILTO:vlad.borla@gmail.com
END:VEVENT
BEGIN:VEVENT
DTSTART;TZID=Europe/Bucharest:20260407T183000
DTEND;TZID=Europe/Bucharest:20260407T213000
DTSTAMP:20260421T203414
CREATED:20260405T114709Z
LAST-MODIFIED:20260405T114709Z
UID:10000019-1775586600-1775597400@lucru.adunat.ro
SUMMARY:Seară de psihologie și socializare: Conectare versus izolare
DESCRIPTION:De ce să participi la un eveniment Adunat?\n\n\n\n\nCum ar fi să ai un context în care să înveți lucruri noi și\, în același timp\, să socializezi într-un mod în care să îți permiți să fii exact cine ești? \nLa Adunat organizăm seri de psihologie și comunicare autentică\, într-un cadru informal și prietenos. \nTema „Conectare versus izolare”\, invitat psihoterapeut Iulia Cruț .  Vom vorbi despre:\n– Cum de ne simtim singuri chiar si cand suntem inconjurati de oameni\n– Ce putem face fiecare dintre noi pentru a construi și întreține o comunitate în care să ne simțim cu toții în siguranță;\n– Cum gestionăm și adresăm rupturile care apar în relațiile dintr-o comunitate. \nÎn acest cadru ne dorim să: \naducem informații științifice și actuale din domeniul psihologiei mai aproape de oameni\, într-un format mai confortabil; \nsă promovăm curiozitatea și deschiderea față de știință\, față de propria persoană și față de lumea în care trăim; \nsă creăm un context în care lumea să se simtă în siguranță pentru a învăța și a socializa în mod autentic – să fie mai puțin despre a impresiona și a primi „note bune”. \nO dată la două săptămâni ne întâlnim într-un pub și alegem o temă din domeniul psihologiei. Un specialist invitat ne vorbește despre tema aleasă într-un mod lejer\, accesibil\, bazat pe date științifice actuale și experiență practică. \nAlternăm momentele de prezentare cu runde de socializare ghidată\, folosind principii simple de comunicare autentică. Nu trebuie să fii expert.\nNu trebuie să ai întrebări spectaculoase sau să fii „bun la socializare”.\nPoți să vii exact așa cum ești. \nDe ce să vii? \nÎnveți informații științifice din domeniul psihologiei\, într-un mod clar și aplicat.\nAi ocazia să cunoști oameni noi\, din medii diferite.\nPoți avea conversații care chiar merită timpul tău.\nE un spațiu în care nu primești note și nu ești judecat pentru ce știi sau nu știi. \nCum decurge seara?\n Ne așezăm în grupuri de câte patru persoane. Primim o întrebare deschisă\, gândită să ducă la o conversație interesantă.\n Fiecare are trei minute să răspundă\, fără să fie întrerupt. Dacă vrei să vorbești\, ai spațiu. Dacă vrei doar să asculți\, e în regulă.\n Alternăm aceste runde cu discuții susținute de specialistul invitat.\n Schimbăm grupurile de mai multe ori\, ca să ai ocazia să cunoști oameni diferiți.\n Încheiem cu o sesiune de Q&A.\nTotul este o invitație. Nu ești obligat să vorbești dacă nu vrei. Poți participa în ritmul tău. \nNu este curs.\nNu este terapie de grup.\nNu este ceva rigid sau ultra-serios.\nEste un context în care ai ocazia să construiești conversații reale\, fără superficialitate\, și să înveți lucruri noi din domeniul psihologiei. \nComunicarea autentică – regulile jocului\nPentru ca discuțiile să fie relaxate și fiecare să se simtă în siguranță\, respectăm câteva principii simple:\n Vorbim despre experiențele noastre\, nu despre ce „ar trebui” să facă alții.\n Ascultăm fără să întrerupem sau să judecăm.\n Nu dăm sfaturi nesolicitate. Suntem aici să înțelegem\, nu să schimbăm pe cineva.\n Ce se discută la Adunat rămâne la Adunat. \n  \nCine vine la Adunat?\nNu există o limită de vârstă și nici un „tip” anume de oameni.\nVei găsi introvertiți și extrovertiți\, oameni din domenii diferite\, cu experiențe și perspective diverse.\nTocmai asta ne place cel mai mult: aducem la aceeași masă oameni care poate nu s-ar fi întâlnit altfel. \n Bilet: 30 – 70 lei (preț flexibil – minim 30 lei\, dar poți contribui mai mult dacă vrei să susții proiectul și să ajuți ca evenimentul să rămână accesibil pentru toată lumea) \n Marți\, 07 Aprilie\n Fika\, Piața Unirii 7\, Iași\n Ne vedem la ora 18:30\, începem efectiv la 18:30\n Locuri limitate! Ia-ți acum bilet de pe adunat.ro și hai să comunicăm un pic mai conștient. \nPS: Dacă vrei să te asiguri că afli când vor fi următoarele întâlniri\, poți intra în grupul nostru de WhatsApp de anunțuri. (fără spam și mesaje aiurea\, doar anunțăm când ne adunăm) Dacă intri\, nu uita să pornești notificările ca să nu pierzi mesajele.\nIntră în grupul WhatsApp
URL:https://lucru.adunat.ro/eveniment/seara-de-psihologie-si-socializare-conectare-versus-izolare/
LOCATION:Fika\, Piața Unirii 7\, Iași\, Iași\, 700058\, Romania
CATEGORIES:Seri de Socializare
ATTACH;FMTTYPE=image/webp:https://lucru.adunat.ro/wp-content/uploads/2026/04/Authentic-Communication-and-Human-Connection-22.webp
ORGANIZER;CN="Vlad Borla":MAILTO:vlad.borla@gmail.com
END:VEVENT
BEGIN:VEVENT
DTSTART;TZID=Europe/Bucharest:20260407T184500
DTEND;TZID=Europe/Bucharest:20260407T210000
DTSTAMP:20260421T203414
CREATED:20260405T113551Z
LAST-MODIFIED:20260405T113551Z
UID:10000016-1775587500-1775595600@lucru.adunat.ro
SUMMARY:Seară de Socializare & Dezbatere: Ar trebui Social Media interzis?
DESCRIPTION:De ce să participi la un eveniment Adunat?\n\n\n\n\n De câte ori ai avut o părere puternică despre un subiect\, dar ai evitat să o spui pentru că nu voiai conflict\, tensiune sau discuții fără sens? \nSau\, dimpotrivă\, de câte ori ai intrat într-o discuție care a degenerat rapid în atacuri\, etichete și „eu am dreptate”? \nNu e vina ta.Majoritatea conversațiilor contradictorii sunt fie:\n– prea agresive (cine vorbește mai tare câștigă)\,– fie prea superficiale (ne prefacem că suntem de acord ca să fie liniște). \nAșa că hai să încercăm altceva. \n Marți\, 7 Aprilie te invităm la Dezbatere & Socializare\, unde dezbatem dacă Social Media ar trebui interzis \n Cum vine asta? \nEste un spațiu în care putem vorbi despre idei sensibile sau controversate\,fără să ne atacăm. \nNu ca să câștigăm o dispută\, ci ca să înțelegem mai bine cum gândim\, de ce gândim așa și ce se întâmplă atunci când ascultăm cu adevărat o perspectivă diferită. \n Regulile jocului: \n Atacăm ideile\, nu oamenii\n Fiecare persoană are timp egal alocat Ascultăm până la capăt\, fără întreruperi Argumentăm\, nu etichetăm Vorbim la persoana I\, din propria perspectivă Ce se discută la eveniment rămâne în spațiul evenimentului \n Ce NU este acest eveniment: \n Nu este terapie de grup Nu este un concurs de „cine are dreptate” Nu este un spațiu de moralizare sau convingere forțată \nEste un exercițiu de dialog\, gândire critică și empatie. \n Cum decurge seara? \nFără să intrăm în detalii sau spoilere: \n Începem ușor\, cu discuții de încălzire în grupuri mici Explorăm subiecte care nasc opinii diferite Schimbăm perspective și contexte Vom avea și momente de dezbatere ghidată\, într-un cadru sigur \nUneori vei fi invitat să susții o poziție doar ca exercițiu de înțelegere\, nu ca afirmație personală. \n Trebuie să fii bun la dezbateri? \nNu.Nu trebuie să fii carismatic\, rapid sau „smart”. \nPoți vorbi.Poți pune întrebări.Poți doar să asculți. \n Totul e o invitație\, nu o obligație. \n\n Cine vine la Dezbatere & Socializare? \nOameni diferiți.Introvertiți\, extrovertiți\, curioși\, sceptici.Oameni care gândesc mult și oameni care simt mult. \nTocmai de asta funcționează.Punem la aceeași masă oameni care\, în mod normal\, nu și-ar fi ascultat opiniile unii altora. \n\n Bilet: 30 – 70 lei(preț flexibil – minim 30 lei\, dar poți contribui mai mult dacă vrei să susții proiectul) \n Marti\, 7 Aprilie  Urban Hub\, Piața Romană 2  Începem la ora 18:45 (aprox. 2:30 – 3 ore) Locuri limitate! \nIa-ți biletul de pe adunat.ro și hai să vedem cum arată un dezacord care nu rupe conexiunea  \n\nPS: Dacă vrei să afli când urmează alte evenimente\, poți intra în grupul nostru de WhatsApp de anunțuri. Fără spam\, fără mesaje aiurea — doar când ne adunăm.
URL:https://lucru.adunat.ro/eveniment/seara-de-socializare-dezbatere-ar-trebui-social-media-interzis/
LOCATION:Urban Hub\, Piața Romană 2\, București\, București\, 010371\, Romania
CATEGORIES:Seri de Socializare
ATTACH;FMTTYPE=image/jpeg:https://lucru.adunat.ro/wp-content/uploads/2026/04/Authentic-Communication-and-Human-Connection-31.jpg
ORGANIZER;CN="Vlad Borla":MAILTO:vlad.borla@gmail.com
END:VEVENT
END:VCALENDAR