BEGIN:VCALENDAR
VERSION:2.0
PRODID:-//Adunat.ro - ECPv6.15.20//NONSGML v1.0//EN
CALSCALE:GREGORIAN
METHOD:PUBLISH
X-WR-CALNAME:Adunat.ro
X-ORIGINAL-URL:https://lucru.adunat.ro
X-WR-CALDESC:Evenimente pentru Adunat.ro
REFRESH-INTERVAL;VALUE=DURATION:PT1H
X-Robots-Tag:noindex
X-PUBLISHED-TTL:PT1H
BEGIN:VTIMEZONE
TZID:Europe/Bucharest
BEGIN:DAYLIGHT
TZOFFSETFROM:+0200
TZOFFSETTO:+0300
TZNAME:EEST
DTSTART:20250330T010000
END:DAYLIGHT
BEGIN:STANDARD
TZOFFSETFROM:+0300
TZOFFSETTO:+0200
TZNAME:EET
DTSTART:20251026T010000
END:STANDARD
BEGIN:DAYLIGHT
TZOFFSETFROM:+0200
TZOFFSETTO:+0300
TZNAME:EEST
DTSTART:20260329T010000
END:DAYLIGHT
BEGIN:STANDARD
TZOFFSETFROM:+0300
TZOFFSETTO:+0200
TZNAME:EET
DTSTART:20261025T010000
END:STANDARD
BEGIN:DAYLIGHT
TZOFFSETFROM:+0200
TZOFFSETTO:+0300
TZNAME:EEST
DTSTART:20270328T010000
END:DAYLIGHT
BEGIN:STANDARD
TZOFFSETFROM:+0300
TZOFFSETTO:+0200
TZNAME:EET
DTSTART:20271031T010000
END:STANDARD
END:VTIMEZONE
BEGIN:VEVENT
DTSTART;TZID=Europe/Bucharest:20260408T183000
DTEND;TZID=Europe/Bucharest:20260408T213000
DTSTAMP:20260421T184254
CREATED:20260404T213707Z
LAST-MODIFIED:20260405T111643Z
UID:10000013-1775673000-1775683800@lucru.adunat.ro
SUMMARY:Community Gathering: Silent Reading & Socializare Autentică
DESCRIPTION:De ce să participi la un eveniment Adunat?\n\n\n\n\nÎți place să citești\, dar vrei să ai alături și alte persoane cu care să împărtășești experiența asta?\nFie pentru că te motivează\, fie pentru că îți aduce liniște\, fie pentru că vrei să vorbești despre ceea ce citești sau pentru că ești pur și simplu curios de ce mai citește lumea sau cum te simți la un astfel de eveniment. \nTe invit la Community Gathering: silent reading & socializare autentică\, unde poți veni să citești o carte pe care o lecturezi în prezent sau\, dacă vrei\, poți citi cartea propusă la Social Book Club care va avea loc în data de 24 aprilie:\n Proiectul Autenticității – Clare Pooley\n vezi mai multe detalii pe adunat.ro \n Mai clar\, ce se întâmplă? \nÎncepem cu un moment de socializare pentru a ne obișnui cu spațiul și pentru a intra în contact cu ceilalți participanți. \nApoi\, timp de o oră\, stăm în liniște\, împreună\, și fiecare își citește cartea adusă  \nFinalizăm seara cu alte două momente de socializare\, în grupuri de câte patru persoane\, unde fiecare are la dispoziție trei minute pentru a răspunde la o întrebare \nPăstrăm principiile comunicării autentice pentru a încerca să construim un spațiu sigur și deschis pentru toți participanții: \n Vorbim la persoana întâi \n Nu dăm sfaturi \n Nu judecăm \n Păstrăm confidențialitatea \n Și pentru a asigura confortul pentru toată lumea\, pe parcursul momentului de lectură nu vom vorbi între noi și vom fi atenți să nu facem zgomote\, iar telefoanele rămân pe silent. \nNu e nevoie să vii cu cărți\, titluri sau idei care să îi impresioneze pe ceilalți.\nNu e nevoie să faci comentarii pentru care să primești note.\nNu există idei greșite sau corecte\, sunt pur și simplu experiențele tale pe care nu le poate contesta nimeni. \nTu decizi cât participi\, cât vorbești și ce idei alegi să împărtășești.\nNoi te așteptăm așa cum ești! \n Cine vine la Adunat? \nNu există o limită de vârstă și nici un „tip” anume de oameni.\nVei găsi introvertiți și extrovertiți\, studenți\, antreprenori\, artiști\, oameni din IT sau din educație. Ce au în comun este curiozitatea și dorința de a avea conversații reale. \n Bilet cu valoare 0\nOrganizăm acest eveniment cu participare gratuită pentru susținerea comunității Adunat\, însă locurile sunt limitate Dacă îți dorești și îți permiți\, poți aduce cu tine gustări pe care să le împărțim între noi. \n Miercuri\, 8 aprilie\, ora 18:00\n (începem la 18:30) \n Sediul Adunat\nStrada Bisericii Ortodoxe 21\, Cluj-Napoca  \nPS: Dacă vrei să te asiguri că afli când vor fi următoarele întâlniri\, poți intra în grupul nostru de WhatsApp de anunțuri. (fără spam și mesaje aiurea\, doar anunțăm când ne adunăm) Dacă intri\, nu uita să pornești notificările ca să nu pierzi mesajele.\nIntră în grupul WhatsApp
URL:https://lucru.adunat.ro/eveniment/community-gathering-silent-reading-socializare-autentica/
LOCATION:Sediul Adunat\, Strada Bisericii Ortodoxe 21\, Cluj-Napoca\, Cluj\, Romania
CATEGORIES:Community Gathering
ATTACH;FMTTYPE=image/webp:https://lucru.adunat.ro/wp-content/uploads/2026/04/Authentic-Communication-and-Human-Connection-35.webp
ORGANIZER;CN="Vlad Borla":MAILTO:vlad.borla@gmail.com
END:VEVENT
END:VCALENDAR