BEGIN:VCALENDAR
VERSION:2.0
PRODID:-//Adunat.ro - ECPv6.15.20//NONSGML v1.0//EN
CALSCALE:GREGORIAN
METHOD:PUBLISH
X-WR-CALNAME:Adunat.ro
X-ORIGINAL-URL:https://lucru.adunat.ro
X-WR-CALDESC:Evenimente pentru Adunat.ro
REFRESH-INTERVAL;VALUE=DURATION:PT1H
X-Robots-Tag:noindex
X-PUBLISHED-TTL:PT1H
BEGIN:VTIMEZONE
TZID:Europe/Bucharest
BEGIN:DAYLIGHT
TZOFFSETFROM:+0200
TZOFFSETTO:+0300
TZNAME:EEST
DTSTART:20250330T010000
END:DAYLIGHT
BEGIN:STANDARD
TZOFFSETFROM:+0300
TZOFFSETTO:+0200
TZNAME:EET
DTSTART:20251026T010000
END:STANDARD
BEGIN:DAYLIGHT
TZOFFSETFROM:+0200
TZOFFSETTO:+0300
TZNAME:EEST
DTSTART:20260329T010000
END:DAYLIGHT
BEGIN:STANDARD
TZOFFSETFROM:+0300
TZOFFSETTO:+0200
TZNAME:EET
DTSTART:20261025T010000
END:STANDARD
BEGIN:DAYLIGHT
TZOFFSETFROM:+0200
TZOFFSETTO:+0300
TZNAME:EEST
DTSTART:20270328T010000
END:DAYLIGHT
BEGIN:STANDARD
TZOFFSETFROM:+0300
TZOFFSETTO:+0200
TZNAME:EET
DTSTART:20271031T010000
END:STANDARD
END:VTIMEZONE
BEGIN:VEVENT
DTSTART;TZID=Europe/Bucharest:20260407T180000
DTEND;TZID=Europe/Bucharest:20260407T210000
DTSTAMP:20260421T185740
CREATED:20260404T212954Z
LAST-MODIFIED:20260405T111437Z
UID:1488-1775584800-1775595600@lucru.adunat.ro
SUMMARY:Cum să treci prin orice\, cu bine - Atelier de valorificare a resurselor interioare
DESCRIPTION:De ce să participi la un eveniment Adunat?\n\n\n\n\nCum ar fi să ai un context în care să înveți lucruri noi și\, în același timp\, să socializezi într-un mod în care să îți permiți să fii exact cine ești? \nTema serii:\nExistă binele și răul? Ce este moralitatea? \nCum putem evalua dacă o acțiune umană este morală sau nu? Cu ce instrumente ale gândirii putem să evaluăm dacă o acțiune este bună sau rea? Care sunt posibilele repere pentru a răspunde? Care este „busola” conceptuală cu ajutorul căreia să ne ghidăm în câmpul moral? \nExistă multe moduri de a răspunde la aceste întrebări și multe curente filosofice care au încercat să dea un răspuns. Printre acestea\, avem abordarea utilitaristă și cea deontologică\, despre care vom vorbi  în această ediție la Adunat – Seara de Filosofie. \nÎn acest cadru ne dorim să: \naducem idei și concepte din istoria filosofiei mai aproape de oameni\, într-un format accesibil și viu; \nsă explorăm împreună întrebări fundamentale despre cine suntem\, cum ne raportăm la ceilalți și ce înseamnă să trăim într-o lume tot mai conectată; \nsă creăm un context în care oamenii se pot simți în siguranță să gândească\, să pună întrebări și să socializeze autentic. Mai puțin despre a avea răspunsul corect\, mai mult despre a gândi împreună. \nO dată la două săptămâni ne întâlnim într-un pub și alegem o temă din filosofia clasică sau contemporană. Pornim de la ideile unor gânditori importanți și le explorăm într-un mod relaxat și accesibil\, alternând momentele de prezentare cu conversații ghidate. \nNu trebuie să fii expert în filosofie.\nNu trebuie să ai citate pregătite sau teorii complicate.\nPoți veni exact așa cum ești. \nDe ce să vii? \nPentru că ne întrebăm mereu\, în sinea noastră\, „oare ceea ce am făcut este bine?”\, „oare sunt un om bun?”\, așadar sunt probleme care ne privesc pe toți. \nAici va fi contextul potrivit să aflăm ce au spus oameni consacrați ai istoriei gândirii despre moralitate\, bine și rău\, dar și ce spun alți oameni\, contemporanii noștri\, despre aceste teme. \nȘi cum nu se poate să existe filosofie morală fără o dezbatere și schimb de idei\, ne vom aduce cu toții contribuția prin socializare autentică cu oameni faini plecând de la ceea ce este pur uman: întrebări despre bine și rău. \nIar la final\, după ce ne vom familiariza cu ce este utilitarismul și ce este deontologia kantiană\, vom putea pleca acasă cu niște instrumente conceptuale utile. \nCum decurge seara? \n Ne așezăm în grupuri de câte patru persoane și primim o întrebare deschisă care pornește conversația.\n Fiecare are trei minute să răspundă\, fără să fie întrerupt. Dacă vrei să vorbești\, ai spațiu. Dacă vrei doar să asculți\, e în regulă.\n Alternăm aceste runde cu scurte momente de prezentare pe tema serii.\n Schimbăm grupurile de mai multe ori\, ca să ai ocazia să întâlnești perspective diferite.\n Încheiem cu o sesiune de Q&A. \nTotul este o invitație. Nu ești obligat să vorbești dacă nu vrei. Poți participa în ritmul tău. \nNu este curs.\nNu este dezbatere agresivă.\nNu este un eveniment rigid sau ultra-serios. \nEste un context în care putem gândi împreună și avea conversații reale. \nComunicarea autentică – regulile jocului \nPentru ca discuțiile să rămână relaxate și fiecare să se simtă în siguranță: \n Vorbim despre propria perspectivă\, nu despre ce „ar trebui” să creadă ceilalți.\n Ascultăm fără să întrerupem sau să judecăm.\n Nu dăm sfaturi nesolicitate. Suntem aici să explorăm idei\, nu să corectăm oameni.\n Ce se discută la Adunat rămâne la Adunat. \nCine vine la Adunat? \nNu există o limită de vârstă și nici un „tip” anume de oameni.\nVei găsi introvertiți și extrovertiți\, studenți\, antreprenori\, artiști\, oameni din IT sau din educație. \nCe au în comun este curiozitatea și dorința de a avea conversații reale. \n Bilet: 30 – 70 lei (preț flexibil – minim 30 lei\, dar poți contribui mai mult dacă vrei să susții proiectul și să ajuți ca evenimentul să rămână accesibil pentru toată lumea) \n Marți\, 7 Aprilie\n Sediul Adunat\, strada Bisericii Ortodoxe 21\, Cluj-Napoca\n Începem la ora 18:00 \n Locuri limitate. Ia-ți bilet de pe adunat.ro și hai să gândim un pic împreună \nPS: Dacă vrei să te asiguri că afli când vor fi următoarele întâlniri\, poți intra în grupul nostru de WhatsApp de anunțuri. (fără spam și mesaje aiurea\, doar anunțăm când ne adunăm) Dacă intri\, nu uita să pornești notificările ca să nu pierzi mesajele.\nIntră în grupul WhatsApp
URL:https://lucru.adunat.ro/eveniment/cum-sa-treci-prin-orice-cu-bine-atelier-de-valorificare-a-resurselor-interioare/
LOCATION:Sediul Adunat\, Strada Bisericii Ortodoxe 21\, Cluj-Napoca\, Cluj\, Romania
CATEGORIES:Seri de Filosofie,Seri de Socializare
ATTACH;FMTTYPE=image/jpeg:https://lucru.adunat.ro/wp-content/uploads/2026/04/Authentic-Communication-and-Human-Connection-21.jpg
ORGANIZER;CN="Vlad Borla":MAILTO:vlad.borla@gmail.com
END:VEVENT
END:VCALENDAR